BEGIN:VCALENDAR
VERSION:2.0
PRODID:-//Jesus Project Ministries - ECPv6.15.20//NONSGML v1.0//EN
CALSCALE:GREGORIAN
METHOD:PUBLISH
X-ORIGINAL-URL:https://jesusprojectministries.com
X-WR-CALDESC:Events for Jesus Project Ministries
REFRESH-INTERVAL;VALUE=DURATION:PT1H
X-Robots-Tag:noindex
X-PUBLISHED-TTL:PT1H
BEGIN:VTIMEZONE
TZID:UTC
BEGIN:STANDARD
TZOFFSETFROM:+0000
TZOFFSETTO:+0000
TZNAME:UTC
DTSTART:20180101T000000
END:STANDARD
END:VTIMEZONE
BEGIN:VEVENT
DTSTART;VALUE=DATE:20190701
DTEND;VALUE=DATE:20190704
DTSTAMP:20260422T092509
CREATED:20190108T180119Z
LAST-MODIFIED:20190108T180119Z
UID:10000015-1561939200-1562198399@jesusprojectministries.com
SUMMARY:JSTEP: Encounter Jesus Camp 7/1-7/3
DESCRIPTION:
URL:https://jesusprojectministries.com/event/jstep-encounter-jesus-camp-7-1-7-3/
LOCATION:LA
CATEGORIES:JSTEP
ATTACH;FMTTYPE=image/jpeg:https://jesusprojectministries.com/wp-content/uploads/2019/01/unnamed-13.jpg
END:VEVENT
BEGIN:VEVENT
DTSTART;VALUE=DATE:20190701
DTEND;VALUE=DATE:20190704
DTSTAMP:20260422T092509
CREATED:20190109T194341Z
LAST-MODIFIED:20190109T194425Z
UID:10000006-1561939200-1562198399@jesusprojectministries.com
SUMMARY:Summer Bible Camp Wk#5
DESCRIPTION:A free nine-week Summer Bible Camp for children in the community includes lunch\, crafts\, games & Bible lessons. It provides a safe place for children to spend their summer days.
URL:https://jesusprojectministries.com/event/summer-bible-camp-wk5/
LOCATION:Jesus Project\, 8315 Apple St\, New Orleans\, LA\, 70118\, United States
CATEGORIES:Summer Camp
ATTACH;FMTTYPE=image/jpeg:https://jesusprojectministries.com/wp-content/uploads/2018/11/37790544_259581994769754_5834041377385611264_n.jpg
END:VEVENT
BEGIN:VEVENT
DTSTART;VALUE=DATE:20190708
DTEND;VALUE=DATE:20190712
DTSTAMP:20260422T092509
CREATED:20190109T194656Z
LAST-MODIFIED:20190109T194750Z
UID:10000007-1562544000-1562889599@jesusprojectministries.com
SUMMARY:Summer Bible Camp Wk#6   1:00-4:00pm
DESCRIPTION:A free nine-week Summer Bible Camp for children in the community includes lunch\, crafts\, games & Bible lessons. It provides a safe place for children to spend their summer days.
URL:https://jesusprojectministries.com/event/summer-bible-camp-wk6-100-400pm/
LOCATION:LA
CATEGORIES:Summer Camp
ATTACH;FMTTYPE=image/jpeg:https://jesusprojectministries.com/wp-content/uploads/2018/11/37790544_259581994769754_5834041377385611264_n.jpg
END:VEVENT
BEGIN:VEVENT
DTSTART;VALUE=DATE:20190713
DTEND;VALUE=DATE:20190804
DTSTAMP:20260422T092509
CREATED:20190109T203426Z
LAST-MODIFIED:20190109T203426Z
UID:10000064-1562976000-1564876799@jesusprojectministries.com
SUMMARY:HS Internship Session 2
DESCRIPTION:HS Internship Session 2: \nJuly 13- August 3
URL:https://jesusprojectministries.com/event/hs-internship-session-2/
LOCATION:Jesus Project\, 8315 Apple St\, New Orleans\, LA\, 70118\, United States
CATEGORIES:Internship
ATTACH;FMTTYPE=image/jpeg:https://jesusprojectministries.com/wp-content/uploads/2018/10/20479085_271936436624068_4190915541386395648_n.jpg
END:VEVENT
BEGIN:VEVENT
DTSTART;VALUE=DATE:20190715
DTEND;VALUE=DATE:20190719
DTSTAMP:20260422T092509
CREATED:20190109T195053Z
LAST-MODIFIED:20190109T195205Z
UID:10000008-1563148800-1563494399@jesusprojectministries.com
SUMMARY:Summer Bible Camp Wk#7  1:00pm-4:00pm
DESCRIPTION:A free nine-week Summer Bible Camp for children in the community includes lunch\, crafts\, games & Bible lessons. It provides a safe place for children to spend their summer days.
URL:https://jesusprojectministries.com/event/summer-bible-camp-wk7-100pm-400pm/
LOCATION:LA
CATEGORIES:Summer Camp
ATTACH;FMTTYPE=image/jpeg:https://jesusprojectministries.com/wp-content/uploads/2018/11/37790544_259581994769754_5834041377385611264_n.jpg
END:VEVENT
BEGIN:VEVENT
DTSTART;VALUE=DATE:20190722
DTEND;VALUE=DATE:20190726
DTSTAMP:20260422T092509
CREATED:20190109T195449Z
LAST-MODIFIED:20190109T195449Z
UID:10000009-1563753600-1564099199@jesusprojectministries.com
SUMMARY:Summer Bible Camp Wk#8    1:00-4:00pm
DESCRIPTION:A free nine-week Summer Bible Camp for children in the community includes lunch\, crafts\, games & Bible lessons. It provides a safe place for children to spend their summer days.
URL:https://jesusprojectministries.com/event/summer-bible-camp-wk8-100-400pm/
LOCATION:LA
ATTACH;FMTTYPE=image/jpeg:https://jesusprojectministries.com/wp-content/uploads/2018/11/37790544_259581994769754_5834041377385611264_n.jpg
END:VEVENT
END:VCALENDAR