BEGIN:VCALENDAR
VERSION:2.0
PRODID:-//Jesus Project Ministries - ECPv6.15.20//NONSGML v1.0//EN
CALSCALE:GREGORIAN
METHOD:PUBLISH
X-WR-CALNAME:Jesus Project Ministries
X-ORIGINAL-URL:https://jesusprojectministries.com
X-WR-CALDESC:Events for Jesus Project Ministries
REFRESH-INTERVAL;VALUE=DURATION:PT1H
X-Robots-Tag:noindex
X-PUBLISHED-TTL:PT1H
BEGIN:VTIMEZONE
TZID:UTC
BEGIN:STANDARD
TZOFFSETFROM:+0000
TZOFFSETTO:+0000
TZNAME:UTC
DTSTART:20180101T000000
END:STANDARD
END:VTIMEZONE
BEGIN:VEVENT
DTSTART;VALUE=DATE:20190401
DTEND;VALUE=DATE:20190405
DTSTAMP:20260422T135929
CREATED:20190109T185843Z
LAST-MODIFIED:20190109T190611Z
UID:10000036-1554076800-1554422399@jesusprojectministries.com
SUMMARY:After School Tutoring 3:30-6:30pm
DESCRIPTION:Apple Street Learning Center:\nOpen Monday thru Thursday.\nThe 32 weeks after school program provides free tutoring for children 5 years and older.\nContact us to Volunteer: info@jesusprojectministries.com
URL:https://jesusprojectministries.com/event/after-school-tutoring-330-630pm-15/
LOCATION:Jesus Project\, 8315 Apple St\, New Orleans\, LA\, 70118\, United States
CATEGORIES:Apple Street Learning Center
ATTACH;FMTTYPE=image/jpeg:https://jesusprojectministries.com/wp-content/uploads/2019/01/15055869_10154761996689443_3265341377025463102_n.jpg
END:VEVENT
BEGIN:VEVENT
DTSTART;VALUE=DATE:20190408
DTEND;VALUE=DATE:20190412
DTSTAMP:20260422T135929
CREATED:20190109T190814Z
LAST-MODIFIED:20190109T190814Z
UID:10000023-1554681600-1555027199@jesusprojectministries.com
SUMMARY:After School Tutoring 3:30-6:30pm
DESCRIPTION:Apple Street Learning Center:\nOpen Monday thru Thursday.\nThe 32 weeks after school program provides free tutoring for children 5 years and older.\nContact us to Volunteer: info@jesusprojectministries.com
URL:https://jesusprojectministries.com/event/after-school-tutoring-330-630pm-18/
LOCATION:Jesus Project\, 8315 Apple St\, New Orleans\, LA\, 70118\, United States
CATEGORIES:Apple Street Learning Center
ATTACH;FMTTYPE=image/jpeg:https://jesusprojectministries.com/wp-content/uploads/2019/01/15055869_10154761996689443_3265341377025463102_n.jpg
END:VEVENT
BEGIN:VEVENT
DTSTART;VALUE=DATE:20190415
DTEND;VALUE=DATE:20190419
DTSTAMP:20260422T135929
CREATED:20190109T190958Z
LAST-MODIFIED:20190109T190958Z
UID:10000037-1555286400-1555631999@jesusprojectministries.com
SUMMARY:After School Tutoring 3:30-6:30pm
DESCRIPTION:Apple Street Learning Center:\nOpen Monday thru Thursday.\nThe 32 weeks after school program provides free tutoring for children 5 years and older.\nContact us to Volunteer: info@jesusprojectministries.com
URL:https://jesusprojectministries.com/event/after-school-tutoring-330-630pm-19/
LOCATION:Jesus Project\, 8315 Apple St\, New Orleans\, LA\, 70118\, United States
CATEGORIES:Apple Street Learning Center
ATTACH;FMTTYPE=image/jpeg:https://jesusprojectministries.com/wp-content/uploads/2019/01/15055869_10154761996689443_3265341377025463102_n.jpg
END:VEVENT
BEGIN:VEVENT
DTSTART;VALUE=DATE:20190422
DTEND;VALUE=DATE:20190426
DTSTAMP:20260422T135929
CREATED:20190109T191127Z
LAST-MODIFIED:20190109T191127Z
UID:10000001-1555891200-1556236799@jesusprojectministries.com
SUMMARY:After School Tutoring 3:30-6:30pm
DESCRIPTION:Apple Street Learning Center:\nOpen Monday thru Thursday.\nThe 32 weeks after school program provides free tutoring for children 5 years and older.\nContact us to Volunteer: info@jesusprojectministries.com
URL:https://jesusprojectministries.com/event/after-school-tutoring-330-630pm-20/
LOCATION:Jesus Project\, 8315 Apple St\, New Orleans\, LA\, 70118\, United States
CATEGORIES:Apple Street Learning Center
ATTACH;FMTTYPE=image/jpeg:https://jesusprojectministries.com/wp-content/uploads/2019/01/15055869_10154761996689443_3265341377025463102_n.jpg
END:VEVENT
BEGIN:VEVENT
DTSTART;VALUE=DATE:20190429
DTEND;VALUE=DATE:20190503
DTSTAMP:20260422T135929
CREATED:20190109T191457Z
LAST-MODIFIED:20190109T191457Z
UID:10000002-1556496000-1556841599@jesusprojectministries.com
SUMMARY:After School Tutoring 3:30-6:30pm
DESCRIPTION:Apple Street Learning Center:\nOpen Monday thru Thursday.\nThe 32 weeks after school program provides free tutoring for children 5 years and older.\nContact us to Volunteer: info@jesusprojectministries.com
URL:https://jesusprojectministries.com/event/after-school-tutoring-330-630pm-21/
LOCATION:Jesus Project\, 8315 Apple St\, New Orleans\, LA\, 70118\, United States
CATEGORIES:Apple Street Learning Center
ATTACH;FMTTYPE=image/jpeg:https://jesusprojectministries.com/wp-content/uploads/2019/01/15055869_10154761996689443_3265341377025463102_n.jpg
END:VEVENT
END:VCALENDAR