BEGIN:VCALENDAR
VERSION:2.0
PRODID:-//Jesus Project Ministries - ECPv6.15.20//NONSGML v1.0//EN
CALSCALE:GREGORIAN
METHOD:PUBLISH
X-ORIGINAL-URL:https://jesusprojectministries.com
X-WR-CALDESC:Events for Jesus Project Ministries
REFRESH-INTERVAL;VALUE=DURATION:PT1H
X-Robots-Tag:noindex
X-PUBLISHED-TTL:PT1H
BEGIN:VTIMEZONE
TZID:UTC
BEGIN:STANDARD
TZOFFSETFROM:+0000
TZOFFSETTO:+0000
TZNAME:UTC
DTSTART:20180101T000000
END:STANDARD
END:VTIMEZONE
BEGIN:VEVENT
DTSTART;TZID=UTC:20190112T103000
DTEND;TZID=UTC:20190112T120000
DTSTAMP:20260422T175854
CREATED:20190107T204228Z
LAST-MODIFIED:20190107T204242Z
UID:10000053-1547289000-1547294400@jesusprojectministries.com
SUMMARY:JSTEP 10:15am-12:00pm
DESCRIPTION:Our Junior Student Training Enrichment Program is designed to raise indigenous leaders in the community. \nSaturday Gathering: Bible Study and Equipping \nContact us to Volunteer: info@jesusprojectministries.com
URL:https://jesusprojectministries.com/event/jstep-1015-1200pm/
LOCATION:Jesus Project\, 8315 Apple St\, New Orleans\, LA\, 70118\, United States
CATEGORIES:outreach
ATTACH;FMTTYPE=image/jpeg:https://jesusprojectministries.com/wp-content/uploads/2018/11/46488225_10156947893329443_7361467580478914560_n.jpg
END:VEVENT
BEGIN:VEVENT
DTSTART;TZID=UTC:20190119T103000
DTEND;TZID=UTC:20190119T120000
DTSTAMP:20260422T175854
CREATED:20190107T204439Z
LAST-MODIFIED:20190107T204439Z
UID:10000055-1547893800-1547899200@jesusprojectministries.com
SUMMARY:JSTEP 10:15am-12:00pm
DESCRIPTION:Our Junior Student Training Enrichment Program is designed to raise indigenous leaders in the community.\nSaturday Gathering: Bible Study and Equipping\nContact us to Volunteer: info@jesusprojectministries.com
URL:https://jesusprojectministries.com/event/jstep-1015am-1200pm/
LOCATION:Jesus Project\, 8315 Apple St\, New Orleans\, LA\, 70118\, United States
CATEGORIES:outreach
ATTACH;FMTTYPE=image/jpeg:https://jesusprojectministries.com/wp-content/uploads/2018/11/46488225_10156947893329443_7361467580478914560_n.jpg
END:VEVENT
BEGIN:VEVENT
DTSTART;TZID=UTC:20190126T103000
DTEND;TZID=UTC:20190126T120000
DTSTAMP:20260422T175854
CREATED:20190107T204638Z
LAST-MODIFIED:20190107T204638Z
UID:10000057-1548498600-1548504000@jesusprojectministries.com
SUMMARY:JSTEP 10:15am-12:00pm
DESCRIPTION:Our Junior Student Training Enrichment Program is designed to raise indigenous leaders in the community.\nSaturday Gathering: Bible Study and Equipping\nContact us to Volunteer: info@jesusprojectministries.com
URL:https://jesusprojectministries.com/event/jstep-1015am-1200pm-2/
LOCATION:Jesus Project\, 8315 Apple St\, New Orleans\, LA\, 70118\, United States
CATEGORIES:outreach
ATTACH;FMTTYPE=image/jpeg:https://jesusprojectministries.com/wp-content/uploads/2018/11/46488225_10156947893329443_7361467580478914560_n.jpg
END:VEVENT
END:VCALENDAR