BEGIN:VCALENDAR
VERSION:2.0
PRODID:-//Jesus Project Ministries - ECPv6.15.20//NONSGML v1.0//EN
CALSCALE:GREGORIAN
METHOD:PUBLISH
X-WR-CALNAME:Jesus Project Ministries
X-ORIGINAL-URL:https://jesusprojectministries.com
X-WR-CALDESC:Events for Jesus Project Ministries
REFRESH-INTERVAL;VALUE=DURATION:PT1H
X-Robots-Tag:noindex
X-PUBLISHED-TTL:PT1H
BEGIN:VTIMEZONE
TZID:UTC
BEGIN:STANDARD
TZOFFSETFROM:+0000
TZOFFSETTO:+0000
TZNAME:UTC
DTSTART:20180101T000000
END:STANDARD
END:VTIMEZONE
BEGIN:VEVENT
DTSTART;VALUE=DATE:20190603
DTEND;VALUE=DATE:20190607
DTSTAMP:20260424T121311
CREATED:20190108T202421Z
LAST-MODIFIED:20190109T192040Z
UID:10000027-1559520000-1559865599@jesusprojectministries.com
SUMMARY:Summer Bible Camp Wk #1    1:00-4:00pm
DESCRIPTION:A free nine-week Summer Bible Camp for children in the community includes lunch\, crafts\, games & Bible lessons. It provides a safe place for children to spend their summer days.
URL:https://jesusprojectministries.com/event/summer-bible-camp-wk-1-100-400pm/
LOCATION:Jesus Project\, 8315 Apple St\, New Orleans\, LA\, 70118\, United States
CATEGORIES:Summer Camp
ATTACH;FMTTYPE=image/jpeg:https://jesusprojectministries.com/wp-content/uploads/2018/11/37790544_259581994769754_5834041377385611264_n.jpg
END:VEVENT
END:VCALENDAR