BEGIN:VCALENDAR
VERSION:2.0
PRODID:-//Jesus Project Ministries - ECPv6.15.20//NONSGML v1.0//EN
CALSCALE:GREGORIAN
METHOD:PUBLISH
X-WR-CALNAME:Jesus Project Ministries
X-ORIGINAL-URL:https://jesusprojectministries.com
X-WR-CALDESC:Events for Jesus Project Ministries
REFRESH-INTERVAL;VALUE=DURATION:PT1H
X-Robots-Tag:noindex
X-PUBLISHED-TTL:PT1H
BEGIN:VTIMEZONE
TZID:UTC
BEGIN:STANDARD
TZOFFSETFROM:+0000
TZOFFSETTO:+0000
TZNAME:UTC
DTSTART:20180101T000000
END:STANDARD
END:VTIMEZONE
BEGIN:VEVENT
DTSTART;TZID=UTC:20190909T153000
DTEND;TZID=UTC:20190909T183000
DTSTAMP:20260422T062839
CREATED:20190108T201346Z
LAST-MODIFIED:20190819T225916Z
UID:10000020-1568043000-1568053800@jesusprojectministries.com
SUMMARY:After School Tutoring Begins 3:30-6:30pm
DESCRIPTION:Apple Street Learning Center:\nOpen Monday thru Thursday.\nThe 32 weeks after school program provides free tutoring for children 5 years and older.\nContact us to Volunteer: info@jesusprojectministries.com
URL:https://jesusprojectministries.com/event/after-school-tutoring-begins-330-630pm/
LOCATION:Jesus Project\, 8315 Apple St\, New Orleans\, LA\, 70118\, United States
CATEGORIES:Apple Street Learning Center
ATTACH;FMTTYPE=image/jpeg:https://jesusprojectministries.com/wp-content/uploads/2019/01/15055869_10154761996689443_3265341377025463102_n.jpg
END:VEVENT
END:VCALENDAR